BEGIN:VCALENDAR
VERSION:2.0
PRODID:-//Next Stop Canada - ECPv6.15.20//NONSGML v1.0//EN
CALSCALE:GREGORIAN
METHOD:PUBLISH
X-ORIGINAL-URL:https://nextstopcanada.ca
X-WR-CALDESC:Events for Next Stop Canada
REFRESH-INTERVAL;VALUE=DURATION:PT1H
X-Robots-Tag:noindex
X-PUBLISHED-TTL:PT1H
BEGIN:VTIMEZONE
TZID:America/Toronto
BEGIN:DAYLIGHT
TZOFFSETFROM:-0500
TZOFFSETTO:-0400
TZNAME:EDT
DTSTART:20220313T070000
END:DAYLIGHT
BEGIN:STANDARD
TZOFFSETFROM:-0400
TZOFFSETTO:-0500
TZNAME:EST
DTSTART:20221106T060000
END:STANDARD
BEGIN:DAYLIGHT
TZOFFSETFROM:-0500
TZOFFSETTO:-0400
TZNAME:EDT
DTSTART:20230312T070000
END:DAYLIGHT
BEGIN:STANDARD
TZOFFSETFROM:-0400
TZOFFSETTO:-0500
TZNAME:EST
DTSTART:20231105T060000
END:STANDARD
BEGIN:DAYLIGHT
TZOFFSETFROM:-0500
TZOFFSETTO:-0400
TZNAME:EDT
DTSTART:20240310T070000
END:DAYLIGHT
BEGIN:STANDARD
TZOFFSETFROM:-0400
TZOFFSETTO:-0500
TZNAME:EST
DTSTART:20241103T060000
END:STANDARD
END:VTIMEZONE
BEGIN:VEVENT
DTSTART;TZID=America/Toronto:20230523T130000
DTEND;TZID=America/Toronto:20230523T140000
DTSTAMP:20260419T200127
CREATED:20230317T160240Z
LAST-MODIFIED:20230317T160240Z
UID:12238-1684846800-1684850400@nextstopcanada.ca
SUMMARY:STAR 4-Women Skilled Trades Awareness and Readiness Program
DESCRIPTION:What does this program offer?\n\n\nWomen and gender diverse people focused learning environment\nSkilled Trades Assessment\nAcademic Upgrading (if applicable)\nHealth and Safety Training and Certifications\nJob Preparedness\nLabour Market Information about skilled trades\nHands-on experience with equipment and tools\nSupport and assistance with skilled trades pathways and opportunities\nWork boots and safety equipment\nTransportation support (restrictions apply)\n\nWho is this program for? \n\nWomen and gender diverse people\, 16 years and older\nMinimum grade 10 education\nResident of and able to work in Ontario\nWilling and able to commit to an 8-week training program\nPossess or be eligible to obtain a valid driver’s license\nPhysically able to work in a variety of construction work environments\n\nHow do I apply?\n\nTo register\, please click here and complete the registration form. For more information\, please contact us at skilledtrades@ywcatoronto.org or 416.964.3883.
URL:https://nextstopcanada.ca/event/star-4-women-skilled-trades-awareness-and-readiness-program/
LOCATION:YWCA Toronto\, 222 Dixon Road\, Suite 207\, Toronto\, ON\, M9P 3S5\, Canada
CATEGORIES:Training,Workshop
ATTACH;FMTTYPE=image/png:https://nextstopcanada.ca/wp-content/uploads/2023/03/Screen-Shot-2023-03-17-at-11.56.01-AM.png
END:VEVENT
END:VCALENDAR