BEGIN:VCALENDAR
VERSION:2.0
PRODID:-//Next Stop Canada - ECPv6.15.20//NONSGML v1.0//EN
CALSCALE:GREGORIAN
METHOD:PUBLISH
X-WR-CALNAME:Next Stop Canada
X-ORIGINAL-URL:https://nextstopcanada.ca
X-WR-CALDESC:Events for Next Stop Canada
REFRESH-INTERVAL;VALUE=DURATION:PT1H
X-Robots-Tag:noindex
X-PUBLISHED-TTL:PT1H
BEGIN:VTIMEZONE
TZID:America/Toronto
BEGIN:DAYLIGHT
TZOFFSETFROM:-0500
TZOFFSETTO:-0400
TZNAME:EDT
DTSTART:20250309T070000
END:DAYLIGHT
BEGIN:STANDARD
TZOFFSETFROM:-0400
TZOFFSETTO:-0500
TZNAME:EST
DTSTART:20251102T060000
END:STANDARD
BEGIN:DAYLIGHT
TZOFFSETFROM:-0500
TZOFFSETTO:-0400
TZNAME:EDT
DTSTART:20260308T070000
END:DAYLIGHT
BEGIN:STANDARD
TZOFFSETFROM:-0400
TZOFFSETTO:-0500
TZNAME:EST
DTSTART:20261101T060000
END:STANDARD
BEGIN:DAYLIGHT
TZOFFSETFROM:-0500
TZOFFSETTO:-0400
TZNAME:EDT
DTSTART:20270314T070000
END:DAYLIGHT
BEGIN:STANDARD
TZOFFSETFROM:-0400
TZOFFSETTO:-0500
TZNAME:EST
DTSTART:20271107T060000
END:STANDARD
END:VTIMEZONE
BEGIN:VEVENT
DTSTART;TZID=America/Toronto:20260422T110000
DTEND;TZID=America/Toronto:20260422T120000
DTSTAMP:20260422T014539
CREATED:20260309T204309Z
LAST-MODIFIED:20260414T183805Z
UID:141370-1776855600-1776859200@nextstopcanada.ca
SUMMARY:Women's Wellness & Preventative Screening in Canada
DESCRIPTION:Join this webinar with a representative from IWHC Toronto\, formerly Immigrant Women’s Health Centre\, on health tips and tricks for women. \nThis live webinar will cover cervical health\, including infection and cancer symptoms\, testing\, treatment\, and family planning. Topics include: how to maintain and monitor women’s health\, when to go in for a check-up\, where to find support for women’s health\, and where to find over-the-counter medication in Canada.
URL:https://nextstopcanada.ca/event/health-tips-and-tricks-for-newcomer-women/
LOCATION:Online
END:VEVENT
END:VCALENDAR